BEGIN:VCALENDAR
PRODID:-//eluceo/ical//2.0/EN
VERSION:2.0
CALSCALE:GREGORIAN
BEGIN:VEVENT
UID:e91e0a69f6d6500308cc94ac1f1a9e13
DTSTAMP:20260422T090015Z
SUMMARY:thierry-mugler-circa-1995 - Date de vente : 29/04/2013
DESCRIPTION:Nom du lots : Thierry MUGLER circa 1995\n\nTailleur en lin et v
 iscose beige\, veste de forme cintrée à col tailleur découpé et de rap
 hia tons sur tons\, boutonnage pression\, deux poches\, manches longues à
  l’identique du col\, jupe droite. Griffe bleue\, graphisme argent
DTSTART;VALUE=DATE:20130429
END:VEVENT
END:VCALENDAR
