BEGIN:VCALENDAR
PRODID:-//eluceo/ical//2.0/EN
VERSION:2.0
CALSCALE:GREGORIAN
BEGIN:VEVENT
UID:be2ef61e4e4dcf0752073284cd117e3a
DTSTAMP:20260423T173624Z
SUMMARY:gres - Date de vente : 11/12/2012
DESCRIPTION:Nom du lots : GRES\n\nJupe longue en soie noire à décor de po
 is argentés
DTSTART;VALUE=DATE:20121211
END:VEVENT
END:VCALENDAR
