BEGIN:VCALENDAR
PRODID:-//eluceo/ical//2.0/EN
VERSION:2.0
CALSCALE:GREGORIAN
BEGIN:VEVENT
UID:1222a594573ad2b87c35c0b23224fcb6
DTSTAMP:20260423T173934Z
SUMMARY:jacques-heim - Date de vente : 11/12/2012
DESCRIPTION:Nom du lots : Jacques HEIM\n\nRobe longue en laine noire ornée
  d’un plissé écossais sur le devant Dernière collection (1968)
DTSTART;VALUE=DATE:20121211
END:VEVENT
END:VCALENDAR
