BEGIN:VCALENDAR
PRODID:-//eluceo/ical//2.0/EN
VERSION:2.0
CALSCALE:GREGORIAN
BEGIN:VEVENT
UID:a21086cb4d24d6163bba78167463ad65
DTSTAMP:20260423T173812Z
SUMMARY:hermes - Date de vente : 11/12/2012
DESCRIPTION:Nom du lots : HERMES\n\nFoulard en soie "DIES ET HORE" Signé F
 . FACONNET (légère tâche en bordure)
DTSTART;VALUE=DATE:20121211
END:VEVENT
END:VCALENDAR
