BEGIN:VCALENDAR
PRODID:-//eluceo/ical//2.0/EN
VERSION:2.0
CALSCALE:GREGORIAN
BEGIN:VEVENT
UID:8e6011c18101b9dc3f54979d4d93aca1
DTSTAMP:20260423T173940Z
SUMMARY:cartier - Date de vente : 11/12/2012
DESCRIPTION:Nom du lots : CARTIER\n\nBel attaché-case en cuir bordeaux sig
 lé Coins renforcés et fermetures à codes secrets en métal doré Intér
 ieur en tissu rouge avec de nombreux compartiments Dim : 44 x 33 x 9 cm EN
  TRES BON ETAT
DTSTART;VALUE=DATE:20121211
END:VEVENT
END:VCALENDAR
