BEGIN:VCALENDAR
PRODID:-//eluceo/ical//2.0/EN
VERSION:2.0
CALSCALE:GREGORIAN
BEGIN:VEVENT
UID:8d1e2a957b45c3895a05d38bb5016a8a
DTSTAMP:20260423T174154Z
SUMMARY:henry-circa-1960 - Date de vente : 11/12/2012
DESCRIPTION:Nom du lots : HENRY - circa 1960\n\nCollier en résine gravée 
 orné de cabochons rehaussés de pâte de verre à décor de roses se fini
 ssant par des pendeloques en pierres parmes Il est monté sur une chaîne 
 en métal doré entrecoupée de pierres et perles en cristal roses Fermoir
  crochet Signé au revers d’un des éléments
DTSTART;VALUE=DATE:20121211
END:VEVENT
END:VCALENDAR
