BEGIN:VCALENDAR
PRODID:-//eluceo/ical//2.0/EN
VERSION:2.0
CALSCALE:GREGORIAN
BEGIN:VEVENT
UID:6e3d5ac9994a9acf7e181596c9c9857a
DTSTAMP:20260423T092418Z
SUMMARY:chanel-circa-2002-2003 - Date de vente : 18/12/2013
DESCRIPTION:Nom du lots : CHANEL circa 2002-2003\n\nLot comprenant un gilet
  en coton et viscose à mailles fantaisie\, boutonnage par un lien\, deux 
 poches\, manches longues et une jupe en viscose plissée à partir des pet
 ites hanches
DTSTART;VALUE=DATE:20131218
END:VEVENT
END:VCALENDAR
