BEGIN:VCALENDAR
PRODID:-//eluceo/ical//2.0/EN
VERSION:2.0
CALSCALE:GREGORIAN
BEGIN:VEVENT
UID:da4d9ea55c38fbbffd8f360608170fa2
DTSTAMP:20260423T091401Z
SUMMARY:ady-couture-daprs-un-modle-chanel-circa-1960 - Date de vente : 18/1
 2/2013
DESCRIPTION:Nom du lots : Ady Couture d’après un modèle Chanel circa 19
 60\n\nManteau en lainage bouclette double face à effet de carreaux écrus
  et gris\, intérieur uni\, petit col en vison blanc\, poignets des manche
 s longues à l’identique\, simple boutonnage. Sans griffe
DTSTART;VALUE=DATE:20131218
END:VEVENT
END:VCALENDAR
