BEGIN:VCALENDAR
PRODID:-//eluceo/ical//2.0/EN
VERSION:2.0
CALSCALE:GREGORIAN
BEGIN:VEVENT
UID:42d1ad5eefe3905904c600fe5c5667ca
DTSTAMP:20260423T090746Z
SUMMARY:chanel - Date de vente : 18/12/2013
DESCRIPTION:Nom du lots : CHANEL\n\nMini-robe en soie saumon recouverte de 
 pailletes en rhodoïde de formes carrées multicolores\, encolure bateau\,
  effet de jabot sur le buste par une guipure en coordonné à la doublure\
 , sans manche\, avec rappel de la guipure ainsi que l’ourlet\, effet de 
 deux poches par des rabats
DTSTART;VALUE=DATE:20131218
END:VEVENT
END:VCALENDAR
