BEGIN:VCALENDAR
PRODID:-//eluceo/ical//2.0/EN
VERSION:2.0
CALSCALE:GREGORIAN
BEGIN:VEVENT
UID:7b118827c4159df4132db91fe33c2bb1
DTSTAMP:20260423T092157Z
SUMMARY:chanel-circa-2008 - Date de vente : 18/12/2013
DESCRIPTION:Nom du lots : CHANEL circa 2008\n\nJean en denim bleu gansé de
  satin noir
DTSTART;VALUE=DATE:20131218
END:VEVENT
END:VCALENDAR
