BEGIN:VCALENDAR
PRODID:-//eluceo/ical//2.0/EN
VERSION:2.0
CALSCALE:GREGORIAN
BEGIN:VEVENT
UID:3048cd6fbc85ecf1d1663100a09faacc
DTSTAMP:20260423T090811Z
SUMMARY:chanel-circa-2003 - Date de vente : 18/12/2013
DESCRIPTION:Nom du lots : CHANEL circa 2003\n\nRobe de cocktail en crêpe g
 eorgette rouge\, effet de taille haute sur un bustier drapé souligné de 
 paillettes de même couleur\, encolure américaine soutenant une cape\, ju
 pe droite\, avec rappel des paillettes\, poches dans les coutures
DTSTART;VALUE=DATE:20131218
END:VEVENT
END:VCALENDAR
