BEGIN:VCALENDAR
PRODID:-//eluceo/ical//2.0/EN
VERSION:2.0
CALSCALE:GREGORIAN
BEGIN:VEVENT
UID:92010b186790921dea7952afcef7999c
DTSTAMP:20260423T030939Z
SUMMARY:yves-saint-laurent-couture-avocado-silk-velvet-embroidered-ensemble
  - Date de vente : 16/11/2004
DESCRIPTION:Nom du lots : Yves Saint Laurent Couture Avocado Silk Velvet Em
 broidered Ensemble\n\nLot 3486\nYves Saint Laurent Couture Avocado Silk Ve
 lvet Embroidered Ensemble\n French\, circa 1962 \n The main comprising of 
 a lavish late day suit\, the sleeveless shell of strie silk organza densel
 y embroidered overall in dark green and bronze seed and bugle beads\, irid
 escent faceted stones and flat sequins in same strie pattern\, one and one
  half inch bottom band of short loops suspending two inch long looped frin
 ge of same\, boxy velvet cardigan jacket with three-quarter set in sleeves
  with one and one half inch embroidered band around neck forming front lar
 iat concluding in same looped fringe\, slender velvet skirt on camisole\, 
 plus long olive silk twill full gathered evening skirt on camisole\, 4 pie
 ces\, size 6\, labeled: Yves Saint Laurent/Made in France/1674. \n Front l
 ining of velvet skirt and lining of jacket replaced\, minor losses to embr
 oidery.
DTSTART;VALUE=DATE:20041116
END:VEVENT
END:VCALENDAR
