BEGIN:VCALENDAR
PRODID:-//eluceo/ical//2.0/EN
VERSION:2.0
CALSCALE:GREGORIAN
BEGIN:VEVENT
UID:9694bb6d476d0e988ba0c5f0169463c1
DTSTAMP:20260423T031000Z
SUMMARY:balenciaga-black-wool-knubby-crepe-dress - Date de vente : 16/11/20
 04
DESCRIPTION:Nom du lots : Balenciaga Black Wool Knubby Crepe Dress\n\nLot 3
 478\nBalenciaga Black Wool Knubby Crepe Dress\n French\, early 1960s \n Mo
 dified jewel neckline with curved yoke front and back\, midriff seams fron
 t and back for shaping\, short kimono sleeve\, low waisted design features
  side front closure with two man-tailored buttons\, skirt with dirndl seam
 ing and side front pockets\, unlined except for yokes lined in chiffon\, b
 lack soft leather belt with bow knot\, size 4/6\, labeled: Balenciaga/10 A
 venue Georges V/Paris and tape label 80025. \n Very good condition\, some 
 moth damage\, hem not original.\n\n Property of Marquesa de San Damian
DTSTART;VALUE=DATE:20041116
END:VEVENT
END:VCALENDAR
