BEGIN:VCALENDAR
PRODID:-//eluceo/ical//2.0/EN
VERSION:2.0
CALSCALE:GREGORIAN
BEGIN:VEVENT
UID:70b9675df148e39cf30e5adcba262b9c
DTSTAMP:20260423T030740Z
SUMMARY:balenciaga-bottle-green-wool-suit - Date de vente : 16/11/2004
DESCRIPTION:Nom du lots : Balenciaga Bottle Green Wool Suit\n\nLot 3477\nBa
 lenciaga Bottle Green Wool Suit\n French\, early 1960s \n Tone on tone pla
 id\, semi fitted jacket shaped with front and back demi-princess seaming\,
  double-breasted with self covered buttons\, pointed collar\, dirndl skirt
  with side front and back seams\, lined with bottle green silk pongee\, si
 ze 4/6\, labeled: Balenciaga/10 Avenue George V/Paris. \n Very good condit
 ion.\n\n Property of Marquesa de San Damian
DTSTART;VALUE=DATE:20041116
END:VEVENT
END:VCALENDAR
