BEGIN:VCALENDAR
PRODID:-//eluceo/ical//2.0/EN
VERSION:2.0
CALSCALE:GREGORIAN
BEGIN:VEVENT
UID:66b5d86fca6355594c04981266ec1c8d
DTSTAMP:20260423T050431Z
SUMMARY:luxe-gold-brocaded-black-satin-cape - Date de vente : 16/11/2004
DESCRIPTION:Nom du lots : Luxe Gold Brocaded Black Satin Cape\n\nLot 3430\n
 Luxe Gold Brocaded Black Satin Cape\n French\, circa 1925 \n The undercoll
 ar and twelve inch deep band at hem composed of edge to edge two and one h
 alf inch vertical bands of gold picot edged black silk satin horizontally 
 tucked in one and one half inch tucks\, finishing in points at hem sewn on
  with gold metallic thread\, deep facing at front and hem of gold and blac
 k brocade trimmed with one inch band of black satin\, lining of polychrome
  floral motif silk velvet voided to a ground of turquoise silk georgette\,
  fur top collar\, size 8\, labeled: Rutledge Gowns/Pittsburgh. \n Excellen
 t condition.
DTSTART;VALUE=DATE:20041116
END:VEVENT
END:VCALENDAR
