BEGIN:VCALENDAR
PRODID:-//eluceo/ical//2.0/EN
VERSION:2.0
CALSCALE:GREGORIAN
BEGIN:VEVENT
UID:45cab3d350c1c8e17186808a046e8096
DTSTAMP:20260423T030841Z
SUMMARY:fortuny-copper-silk-satin-delphos-gown - Date de vente : 16/11/2004
DESCRIPTION:Nom du lots : Fortuny Copper Silk Satin Delphos Gown\n\nLot 342
 8\nFortuny Copper Silk Satin Delphos Gown\n Italian\, 1920s \n Sleeveless 
 with striped terra cotta and ochre Murano pate de verre beads on silk cord
  at sides and shoulder\, neckline with silk cord drawstring decorated with
  single bead\, interior linen tape stamped: Fortuny\, and cotton label ins
 cribed: Pleated X4825. \nVery good condition\, one small hole at hem and o
 ne near neckline\, one button missing from neckline cord.
DTSTART;VALUE=DATE:20041116
END:VEVENT
END:VCALENDAR
