BEGIN:VCALENDAR
PRODID:-//eluceo/ical//2.0/EN
VERSION:2.0
CALSCALE:GREGORIAN
BEGIN:VEVENT
UID:5f2d47e26d67b5dec0b67e2a9d64fe48
DTSTAMP:20260423T030359Z
SUMMARY:two-patou-receipts - Date de vente : 16/11/2004
DESCRIPTION:Nom du lots : Two Patou Receipts\n\nLot 3424\nTwo Patou Receipt
 s\n French\, early 20th century \n The first from 1923\, the second from 1
 930\, made out to Madame la Princesse Boncompagnie\, both with House of Pa
 tou stamp. \nExcellent condition.
DTSTART;VALUE=DATE:20041116
END:VEVENT
END:VCALENDAR
