BEGIN:VCALENDAR
PRODID:-//eluceo/ical//2.0/EN
VERSION:2.0
CALSCALE:GREGORIAN
BEGIN:VEVENT
UID:68dc249cf8a8a5cbcbf8f46fb6b88936
DTSTAMP:20260423T030618Z
SUMMARY:rare-black-silk-satin-orientalist-coat - Date de vente : 16/11/2004
DESCRIPTION:Nom du lots : Rare Black Silk Satin Orientalist Coat\n\nLot 341
 5\nRare Black Silk Satin Orientalist Coat\n French\, mid 1920s \n With lum
 inescent pastel polychrome amalgam application referencing designs found i
 n coromandel lacquer\, the rajah inspired style with flared set in long sl
 eeves and slightly fitted body\, the front closures with filigree gilt-met
 al ball buttons\, metallic gold cord edging the entire application\, lined
  in black silk satin which also borders the hems\, size 6/8\, no label. \n
 Excellent condition.
DTSTART;VALUE=DATE:20041116
END:VEVENT
END:VCALENDAR
