BEGIN:VCALENDAR
PRODID:-//eluceo/ical//2.0/EN
VERSION:2.0
CALSCALE:GREGORIAN
BEGIN:VEVENT
UID:352e99ffde399e0d2e7043d956fd3b82
DTSTAMP:20260423T063904Z
SUMMARY:robert-lee-morris-asymmetrical-sterling-cuff - Date de vente : 16/1
 1/2004
DESCRIPTION:Nom du lots : Robert Lee Morris Asymmetrical Sterling Cuff\n\nL
 ot 3374\nRobert Lee Morris Asymmetrical Sterling Cuff\n American\, 1990s \
 n Curvilinear\, 1 inch widest point\, marked: Robert Lee Morris/925. \nExc
 ellent condition.
DTSTART;VALUE=DATE:20041116
END:VEVENT
END:VCALENDAR
