BEGIN:VCALENDAR
PRODID:-//eluceo/ical//2.0/EN
VERSION:2.0
CALSCALE:GREGORIAN
BEGIN:VEVENT
UID:8dbab075ad22acc0d467912b5c3f59a7
DTSTAMP:20260423T045017Z
SUMMARY:missoni-collar-with-drawings - Date de vente : 16/11/2004
DESCRIPTION:Nom du lots : Missoni Collar with Drawings\n\nLot 3346\nMissoni
  Collar with Drawings\n Rosita Missoni\, Italy circa 1990 \n Of multicolor
 ed acetate components with silver plated links\, length 15 1/2 inches\, un
 signed\, accompanied by two original drawings of necklace. \nExcellent con
 dition.
DTSTART;VALUE=DATE:20041116
END:VEVENT
END:VCALENDAR
