BEGIN:VCALENDAR
PRODID:-//eluceo/ical//2.0/EN
VERSION:2.0
CALSCALE:GREGORIAN
BEGIN:VEVENT
UID:805bfe67db0f40fc500153b78295db18
DTSTAMP:20260423T045653Z
SUMMARY:two-versace-belts - Date de vente : 16/11/2004
DESCRIPTION:Nom du lots : Two Versace Belts\n\nLot 3331\nTwo Versace Belts\
 n Ugo Correani for Gianni Versace\, Italian\, 1992 \n Each in cast gold pl
 ated metal\; the first of ten Medusa logo plaques\, length 29 1/4 inches\,
  marked: Gianni Versace/Made in Italy\; the second a triple strand of Gree
 k Key fretwork with Medusa logo at end\, length 32 1/2 inches\, unsigned. 
 \nEach in excellent condition.\n See Bossi\,Gianni Versace VANITAS: Design
 s\, pp. 89\, 92.
DTSTART;VALUE=DATE:20041116
END:VEVENT
END:VCALENDAR
