BEGIN:VCALENDAR
PRODID:-//eluceo/ical//2.0/EN
VERSION:2.0
CALSCALE:GREGORIAN
BEGIN:VEVENT
UID:f9b3059fd0f463506ab30b6415ad64b7
DTSTAMP:20260423T045017Z
SUMMARY:two-pairs-of-versace-earclips - Date de vente : 16/11/2004
DESCRIPTION:Nom du lots : Two Pairs of Versace Earclips\n\nLot 3324\nTwo Pa
 irs of Versace Earclips\n Ugo Correani for Gianni Versace\, Italian\, circ
 a 1990 \n The first pair heart-shaped in gold plated brass\, length 2 3/4 
 inches\, marked: Gianni Versace\; the second pair with gold plated pendant
 s with round and square cut rhinestones\, painted in yellow\, red\, green 
 and orange\, length 5 1/2 inches\, unmarked. \nEach in excellent condition
 .\n For the second pair\, see Gioia\, 22 October 1990.
DTSTART;VALUE=DATE:20041116
END:VEVENT
END:VCALENDAR
