BEGIN:VCALENDAR
PRODID:-//eluceo/ical//2.0/EN
VERSION:2.0
CALSCALE:GREGORIAN
BEGIN:VEVENT
UID:27aa80f3e558d125c0c55cc6e0c1e9c0
DTSTAMP:20260423T044742Z
SUMMARY:two-versace-gold-plated-bangle-bracelets - Date de vente : 16/11/20
 04
DESCRIPTION:Nom du lots : Two Versace Gold Plated Bangle Bracelets\n\nLot 3
 323\nTwo Versace Gold Plated Bangle Bracelets\n Ugo Correani for Gianni Ve
 rsace\, Italian\, circa 1988 and circa 1990 \n The first with scrolling op
 enwork\; the second with hammered finish and round\, square and triangular
  multicolored plastic stones\, both length 5 inches\, and marked: Gianni V
 ersace/Made in Italy. \n Each in excellent condition.
DTSTART;VALUE=DATE:20041116
END:VEVENT
END:VCALENDAR
