BEGIN:VCALENDAR
PRODID:-//eluceo/ical//2.0/EN
VERSION:2.0
CALSCALE:GREGORIAN
BEGIN:VEVENT
UID:930b80fc57b274a6b68bf820276f6cb7
DTSTAMP:20260423T063655Z
SUMMARY:lagerfeld-enameled-metal-cuff-and-earclips - Date de vente : 16/11/
 2004
DESCRIPTION:Nom du lots : Lagerfeld Enameled Metal Cuff and Earclips\n\nLot
  3316\nLagerfeld Enameled Metal Cuff and Earclips\n Ugo Correani for Karl 
 Lagerfeld\, French\, 1987 \n Of clear plexiglass with enameled metal ruffl
 es simulating lace\, the cuff width 5 1/5 inches\,the earclips width 2 3/4
  inches \, unsigned. \nExcellent condition.\n See exhibition catalog Musee
  Galliera\, Mutations/Mode: 1960/2000\, p.104.
DTSTART;VALUE=DATE:20041116
END:VEVENT
END:VCALENDAR
