BEGIN:VCALENDAR
PRODID:-//eluceo/ical//2.0/EN
VERSION:2.0
CALSCALE:GREGORIAN
BEGIN:VEVENT
UID:e2655b9265ee8a9f2cbdc66d3001c601
DTSTAMP:20260423T044905Z
SUMMARY:lagerfeld-puppet-necklace-and-earrings - Date de vente : 16/11/2004
DESCRIPTION:Nom du lots : Lagerfeld Puppet Necklace and Earrings\n\nLot 331
 3\nLagerfeld Puppet Necklace and Earrings\n Ugo Correani for Karl Lagerfel
 d\, French\, 1984 \n Of painted wood\, plastic\, simulated pearl and gold 
 plated findings\, the necklace on silk cord length 31 inches\, the earclip
 s length 4 1/2 inches\, each unsigned. \nExcellent condition.\n See L’Es
 presso\, June 7\, 1987.
DTSTART;VALUE=DATE:20041116
END:VEVENT
END:VCALENDAR
