BEGIN:VCALENDAR
PRODID:-//eluceo/ical//2.0/EN
VERSION:2.0
CALSCALE:GREGORIAN
BEGIN:VEVENT
UID:11aec3d028df0442603c2e413e1c174a
DTSTAMP:20260423T083826Z
SUMMARY:chanel-par-karl-lagerfeld - Date de vente : 13/02/2012
DESCRIPTION:Nom du lots : CHANEL par Karl LAGERFELD\n\nHaute couture\, circ
 a 1990 Robe longue en organza noir\, encolure carré\, sans manches\, effe
 t de taille haute par des coutures allant jusqu’aux hanches\, bas de la 
 robe travaillé en biais. Se porte sous une veste à basques volantées re
 prenant le mouvement de la robe\, col châle cranté\, deux poches poitrin
 e\, boutonnage à un bouton siglé\, manches longues avec rappel des bouto
 ns. Griffe noir graphisme blanc.
DTSTART;VALUE=DATE:20120213
END:VEVENT
END:VCALENDAR
