BEGIN:VCALENDAR
PRODID:-//eluceo/ical//2.0/EN
VERSION:2.0
CALSCALE:GREGORIAN
BEGIN:VEVENT
UID:915dfcb612de25f364074d34563d21fb
DTSTAMP:20260423T084947Z
SUMMARY:chanel - Date de vente : 13/02/2012
DESCRIPTION:Nom du lots : CHANEL\n\nCollier composé de cinq rangs de chaî
 nes de forme différentes ornées d’un motif en métal doré serti de ca
 bochons en résine à l’imitation résine rehaussé du sigle et de perle
 s reprenant la couleur sur certaines chaînes. Signé
DTSTART;VALUE=DATE:20120213
END:VEVENT
END:VCALENDAR
