BEGIN:VCALENDAR
PRODID:-//eluceo/ical//2.0/EN
VERSION:2.0
CALSCALE:GREGORIAN
BEGIN:VEVENT
UID:50c8b4ea541b43dec55fa6f3bae6ff0c
DTSTAMP:20260423T102648Z
SUMMARY:chanel-circa-2006 - Date de vente : 13/02/2012
DESCRIPTION:Nom du lots : CHANEL\, circa 2006\n\nPendentif coeur en cristal
  taille de Swarovski orné des grappes de perles blanches\, de motifs flor
 aux sertis de strass\, monté sur ruban réglable. Signé\, daté
DTSTART;VALUE=DATE:20120213
END:VEVENT
END:VCALENDAR
