BEGIN:VCALENDAR
PRODID:-//eluceo/ical//2.0/EN
VERSION:2.0
CALSCALE:GREGORIAN
BEGIN:VEVENT
UID:2032e87c53d3bc8b330f2a4089af6d2a
DTSTAMP:20260423T104747Z
SUMMARY:chanel-circa-1996 - Date de vente : 13/02/2012
DESCRIPTION:Nom du lots : CHANEL\, circa 1996\n\nCeinture chaîne en métal
  doré figurant le sigle. Signée
DTSTART;VALUE=DATE:20120213
END:VEVENT
END:VCALENDAR
