BEGIN:VCALENDAR
PRODID:-//eluceo/ical//2.0/EN
VERSION:2.0
CALSCALE:GREGORIAN
BEGIN:VEVENT
UID:399b3130ee3ada04adbb40887008fca0
DTSTAMP:20260423T102757Z
SUMMARY:vladimir-sichov - Date de vente : 13/02/2012
DESCRIPTION:Nom du lots : Vladimir SICHOV\n\n"Karl Lagerfeld" Tirage argent
 ique sur papier barité 38 x 55 cm
DTSTART;VALUE=DATE:20120213
END:VEVENT
END:VCALENDAR
