BEGIN:VCALENDAR
PRODID:-//eluceo/ical//2.0/EN
VERSION:2.0
CALSCALE:GREGORIAN
BEGIN:VEVENT
UID:badde84ab72e1cf74bedde7ad3c2a32b
DTSTAMP:20260421T142332Z
SUMMARY:chanel-circa-1960 - Date de vente : 13/02/2012
DESCRIPTION:Nom du lots : CHANEL\, circa 1960\n\nSac en velours noir à eff
 et de surpiqûres\, armature en métal doré\, intérieur en ottoman rose\
 , double anse chaîne en métal doré (petite déchirure). Long. 24 cm
DTSTART;VALUE=DATE:20120213
END:VEVENT
END:VCALENDAR
