BEGIN:VCALENDAR
PRODID:-//eluceo/ical//2.0/EN
VERSION:2.0
CALSCALE:GREGORIAN
BEGIN:VEVENT
UID:a99bf80ffdc072841b3cc729b4b89502
DTSTAMP:20260422T233238Z
SUMMARY:elsa-schiaparelli-evening-cape-1937-1938 - Date de vente : 13/11/20
 13
DESCRIPTION:Nom du lots : ELSA SCHIAPARELLI EVENING CAPE\, 1937-1938\n\nBla
 ck wool\, floor length\, pale orange cartouche shaped shoulder appliques w
 / gold soutache & bead & jewel Lesage embroidery\, high band collar\, doub
 le row of welted button holes at either side of opening\, unlabeled except
  for shop label "Importer Josephine Smith\, Springfield\, Mass"\, pale ora
 nge lining\, (stitching at back of 1 button hole coming undone & toggles f
 or button holes missing) excellent. Authenticated as Schiaparelli at FIT C
 ostume Museum.\nBid Online\nCategory:OuterwearEra:1920-1949\n29.13343.63.3
 03
DTSTART;VALUE=DATE:20131113
END:VEVENT
END:VCALENDAR
