BEGIN:VCALENDAR
PRODID:-//eluceo/ical//2.0/EN
VERSION:2.0
CALSCALE:GREGORIAN
BEGIN:VEVENT
UID:74d553b80fa6e23f0bc928749a7d0a8c
DTSTAMP:20260423T101627Z
SUMMARY:chanel-boutique - Date de vente : 13/02/2012
DESCRIPTION:Nom du lots : CHANEL Boutique\n\nRobe manteau en lainage boucle
 tte jaune paille écrue\, encolure ronde\, double boutonnage\, deux poches
  poitrines plaquées\, manches longues\, poches dans les coutures\, martin
 gale au dos soulignant des plis
DTSTART;VALUE=DATE:20120213
END:VEVENT
END:VCALENDAR
