BEGIN:VCALENDAR
PRODID:-//eluceo/ical//2.0/EN
VERSION:2.0
CALSCALE:GREGORIAN
BEGIN:VEVENT
UID:f3731711ae93a61d4c384c981519a8e3
DTSTAMP:20260423T102617Z
SUMMARY:chanel-circa-1987 - Date de vente : 13/02/2012
DESCRIPTION:Nom du lots : CHANEL\, circa 1987\n\nMontre Mademoiselle plaqu
 é or\, cadran figurant le bouchon du parfum n°5\, cadran noir sans index
 \, lunette en cristal biseauté\, bracelet chaine entrelacé de cuir. Sign
 é\, taille M
DTSTART;VALUE=DATE:20120213
END:VEVENT
END:VCALENDAR
