BEGIN:VCALENDAR
PRODID:-//eluceo/ical//2.0/EN
VERSION:2.0
CALSCALE:GREGORIAN
BEGIN:VEVENT
UID:adf5b4c38ddc1e0a6cd1bda71fa34698
DTSTAMP:20260423T102617Z
SUMMARY:guy-marineau - Date de vente : 13/02/2012
DESCRIPTION:Nom du lots : Guy MARINEAU\n\n"Karl Lagerfeld et mannequin" Tir
 age argentique barité Signé en bas à droite 30 x 42 cm
DTSTART;VALUE=DATE:20120213
END:VEVENT
END:VCALENDAR
