BEGIN:VCALENDAR
PRODID:-//eluceo/ical//2.0/EN
VERSION:2.0
CALSCALE:GREGORIAN
BEGIN:VEVENT
UID:bf1e8a7afff4672d6e69ab6019df441c
DTSTAMP:20260423T100311Z
SUMMARY:chanel-travail-robert-goossens - Date de vente : 13/02/2012
DESCRIPTION:Nom du lots : CHANEL travail Robert GOOSSENS\n\nHaute couture\,
  circa 1954-1971 Ceinture articulée en métal doré ciselé et repercé m
 ontée sur élastique de même couleur\, boucle à l’identique. Non sign
 ée
DTSTART;VALUE=DATE:20120213
END:VEVENT
END:VCALENDAR
