BEGIN:VCALENDAR
PRODID:-//eluceo/ical//2.0/EN
VERSION:2.0
CALSCALE:GREGORIAN
BEGIN:VEVENT
UID:9de9d80192facae46c416b8ab062e116
DTSTAMP:20260423T101049Z
SUMMARY:chanel-circa-2005 - Date de vente : 13/02/2012
DESCRIPTION:Nom du lots : CHANEL\, circa 2005\n\nPaire de boucles d’oreil
 les en métal doré martelé rehaussé d’une frise de perles. Signée 49
DTSTART;VALUE=DATE:20120213
END:VEVENT
END:VCALENDAR
