BEGIN:VCALENDAR
PRODID:-//eluceo/ical//2.0/EN
VERSION:2.0
CALSCALE:GREGORIAN
BEGIN:VEVENT
UID:b43bcfefb334d3a7d606d0a197fdafcd
DTSTAMP:20260423T101048Z
SUMMARY:chanel-circa-1997 - Date de vente : 13/02/2012
DESCRIPTION:Nom du lots : CHANEL\, circa 1997\n\nBracelet chaîne en métal
  vernissé à patine marron orné de motifs en résine ambre rehaussés d
 ’une perle bleue. Signé\, daté
DTSTART;VALUE=DATE:20120213
END:VEVENT
END:VCALENDAR
