BEGIN:VCALENDAR
PRODID:-//eluceo/ical//2.0/EN
VERSION:2.0
CALSCALE:GREGORIAN
BEGIN:VEVENT
UID:bcc2a34d31b71996bece6f26db3ff92d
DTSTAMP:20260422T085907Z
SUMMARY:produit-278733 - Date de vente : 14/05/2013
DESCRIPTION:Nom du lots : \n\nNO LOT\n
DTSTART;VALUE=DATE:20130514
END:VEVENT
END:VCALENDAR
