BEGIN:VCALENDAR
PRODID:-//eluceo/ical//2.0/EN
VERSION:2.0
CALSCALE:GREGORIAN
BEGIN:VEVENT
UID:289721bcb8ca6d6ea9c05ec968362fe6
DTSTAMP:20260422T090008Z
SUMMARY:produit-278720 - Date de vente : 14/05/2013
DESCRIPTION:Nom du lots : \n\nA Carrickmacross lace bridal veil\, late 19th
  century\, worked with diagonal bands of floral sprigs\, in original box l
 abelled ’Steinman & Co\, Trousseaux and Layettes’\, 135 by 290cm\n
DTSTART;VALUE=DATE:20130514
END:VEVENT
END:VCALENDAR
