BEGIN:VCALENDAR
PRODID:-//eluceo/ical//2.0/EN
VERSION:2.0
CALSCALE:GREGORIAN
BEGIN:VEVENT
UID:ba4b4bf3fcdd05d635a3a911dceeacdf
DTSTAMP:20260422T085907Z
SUMMARY:produit-278701 - Date de vente : 14/05/2013
DESCRIPTION:Nom du lots : \n\nA small embroidered Susani panel\, Bokharan\,
   20th century\, worked to the centre with quatrefoil medallion on a buff 
 ground\, bordered by carnations\, rosettes\, slender leaf forms and fronds
 \, 120 by 89cm\n
DTSTART;VALUE=DATE:20130514
END:VEVENT
END:VCALENDAR
