BEGIN:VCALENDAR
PRODID:-//eluceo/ical//2.0/EN
VERSION:2.0
CALSCALE:GREGORIAN
BEGIN:VEVENT
UID:67bf25f01ea291cbba74d98281156c15
DTSTAMP:20260422T085908Z
SUMMARY:produit-278699 - Date de vente : 14/05/2013
DESCRIPTION:Nom du lots : \n\nTwo woven Kente cloths\, Ashanti people\, 20t
 h century\, one in predominantly black\, white and red\, the lattice-effec
 t woven strips with 180 by 295cm\; the other brightly coloured\, navy\, ho
 t pink\, green and orange contrasts\, 140 by 208 cm\; together with a Kent
 e fragment\; and a Kuba cloth adorned with slashing\, beads and seashells 
 (4)i\n
DTSTART;VALUE=DATE:20130514
END:VEVENT
END:VCALENDAR
