BEGIN:VCALENDAR
PRODID:-//eluceo/ical//2.0/EN
VERSION:2.0
CALSCALE:GREGORIAN
BEGIN:VEVENT
UID:90f1789600a40be45e8f20623d99ebd6
DTSTAMP:20260422T090008Z
SUMMARY:produit-278692 - Date de vente : 14/05/2013
DESCRIPTION:Nom du lots : \n\nA group of South East Asian textiles\, late 1
 9th and 20th century\, including a shell adorned warrior’s shawl\, Naga 
 people\, north-east India\, with two stylised shell outlined figures betwe
 en rows of circular moon motifs\, red and green striped borders\; a shell 
 decorated stole and belt\, probably Sumatra\; a Burmese runner heavily emb
 ellished with gold thread and sequins\, Indonesian warp ikat cotton stole\
 ; assorted Laos shawls and stoles and others (qty)\n
DTSTART;VALUE=DATE:20130514
END:VEVENT
END:VCALENDAR
