BEGIN:VCALENDAR
PRODID:-//eluceo/ical//2.0/EN
VERSION:2.0
CALSCALE:GREGORIAN
BEGIN:VEVENT
UID:a4fc6a33b835c54662782f558d65b08c
DTSTAMP:20260422T085816Z
SUMMARY:produit-278679 - Date de vente : 14/05/2013
DESCRIPTION:Nom du lots : \n\nTHIS LOT IS WITHDRAWN\n
DTSTART;VALUE=DATE:20130514
END:VEVENT
END:VCALENDAR
