BEGIN:VCALENDAR
PRODID:-//eluceo/ical//2.0/EN
VERSION:2.0
CALSCALE:GREGORIAN
BEGIN:VEVENT
UID:149ea4e4913b61332a33783ada9872e5
DTSTAMP:20260422T084255Z
SUMMARY:produit-278674 - Date de vente : 14/05/2013
DESCRIPTION:Nom du lots : \n\nTHIS LOT IS WITHDRAWN\n
DTSTART;VALUE=DATE:20130514
END:VEVENT
END:VCALENDAR
