BEGIN:VCALENDAR
PRODID:-//eluceo/ical//2.0/EN
VERSION:2.0
CALSCALE:GREGORIAN
BEGIN:VEVENT
UID:89ac53f1851ede404fa49d2db7331545
DTSTAMP:20260422T103528Z
SUMMARY:produit-278659 - Date de vente : 14/05/2013
DESCRIPTION:Nom du lots : \n\nTHIS LOT IS WITHDRAWN\n
DTSTART;VALUE=DATE:20130514
END:VEVENT
END:VCALENDAR
