BEGIN:VCALENDAR
PRODID:-//eluceo/ical//2.0/EN
VERSION:2.0
CALSCALE:GREGORIAN
BEGIN:VEVENT
UID:4695e18392604acec110c0a4dc059c69
DTSTAMP:20260422T102733Z
SUMMARY:produit-278654 - Date de vente : 14/05/2013
DESCRIPTION:Nom du lots : \n\nTHIS LOT IS WITHDRAWN\n
DTSTART;VALUE=DATE:20130514
END:VEVENT
END:VCALENDAR
