BEGIN:VCALENDAR
PRODID:-//eluceo/ical//2.0/EN
VERSION:2.0
CALSCALE:GREGORIAN
BEGIN:VEVENT
UID:0f3fefe61e9da92e6a985e9b717a75e9
DTSTAMP:20260422T104905Z
SUMMARY:produit-278645 - Date de vente : 14/05/2013
DESCRIPTION:Nom du lots : \n\nAn unusual embroidered blue silk gauze summer
  skirt\, Chinese\, late 19th century\, the hem worked with large pagoda mo
 tifs with priests\, noble women\, sedan chairs\, figure on horseback\, and
  stags\n
DTSTART;VALUE=DATE:20130514
END:VEVENT
END:VCALENDAR
