BEGIN:VCALENDAR
PRODID:-//eluceo/ical//2.0/EN
VERSION:2.0
CALSCALE:GREGORIAN
BEGIN:VEVENT
UID:52696bbba59239b20802bc22604b1b4c
DTSTAMP:20260422T103401Z
SUMMARY:produit-278643 - Date de vente : 14/05/2013
DESCRIPTION:Nom du lots : \n\nA pair of embroidered blue damask silk shoes 
 for bound feet\, circa 1900\, embroidered with insects\, bird and blossom\
 , edged in black silk\, with signs of heavy use\, 15cm\, 6in long\n
DTSTART;VALUE=DATE:20130514
END:VEVENT
END:VCALENDAR
