BEGIN:VCALENDAR
PRODID:-//eluceo/ical//2.0/EN
VERSION:2.0
CALSCALE:GREGORIAN
BEGIN:VEVENT
UID:3a0965adbbc66ad7e80f9b4e76b101ec
DTSTAMP:20260422T104733Z
SUMMARY:produit-278640 - Date de vente : 14/05/2013
DESCRIPTION:Nom du lots : \n\nAn embroidered purple satin lady’s informal
  robe\, late 19th century\, embroidered overall with blossom sprigs and bu
 tterflies\, with woven ribbon edging bands\n
DTSTART;VALUE=DATE:20130514
END:VEVENT
END:VCALENDAR
